BEGIN:VCALENDAR
VERSION:2.0
PRODID:-//CAPI - ECPv6.13.2.1//NONSGML v1.0//EN
CALSCALE:GREGORIAN
METHOD:PUBLISH
X-WR-CALNAME:CAPI
X-ORIGINAL-URL:https://capiparanormal.com
X-WR-CALDESC:Events for CAPI
REFRESH-INTERVAL;VALUE=DURATION:PT1H
X-Robots-Tag:noindex
X-PUBLISHED-TTL:PT1H
BEGIN:VTIMEZONE
TZID:America/Chicago
BEGIN:DAYLIGHT
TZOFFSETFROM:-0600
TZOFFSETTO:-0500
TZNAME:CDT
DTSTART:20220313T080000
END:DAYLIGHT
BEGIN:STANDARD
TZOFFSETFROM:-0500
TZOFFSETTO:-0600
TZNAME:CST
DTSTART:20221106T070000
END:STANDARD
END:VTIMEZONE
BEGIN:VEVENT
DTSTART;TZID=America/Chicago:20221121T210000
DTEND;TZID=America/Chicago:20221121T230000
DTSTAMP:20260423T174258
CREATED:20221101T224229Z
LAST-MODIFIED:20221101T224229Z
UID:1756-1669064400-1669071600@capiparanormal.com
SUMMARY:CAPI Live
DESCRIPTION:Join us every Sunday night at 9PM Central on YouTube for CAPI Live
URL:https://capiparanormal.com/event/capi-live-8/
LOCATION:AL
ATTACH;FMTTYPE=image/jpeg:https://capiparanormal.com/wp-content/uploads/2019/09/WhatsCropDPCreator_2_7_2020_3_11_21_PM.jpeg
ORGANIZER;CN="Central Alabama Paranormal Investigations":MAILTO:bharris.capi@gmail.com
END:VEVENT
BEGIN:VEVENT
DTSTART;TZID=America/Chicago:20221114T210000
DTEND;TZID=America/Chicago:20221114T230000
DTSTAMP:20260423T174258
CREATED:20221101T224104Z
LAST-MODIFIED:20221101T224104Z
UID:1754-1668459600-1668466800@capiparanormal.com
SUMMARY:CAPI Live
DESCRIPTION:Join us every Sunday night at 9PM Central on YouTube for CAPI Live
URL:https://capiparanormal.com/event/capi-live-7/
LOCATION:AL
ATTACH;FMTTYPE=image/jpeg:https://capiparanormal.com/wp-content/uploads/2019/09/WhatsCropDPCreator_2_7_2020_3_11_21_PM.jpeg
ORGANIZER;CN="Central Alabama Paranormal Investigations":MAILTO:bharris.capi@gmail.com
END:VEVENT
BEGIN:VEVENT
DTSTART;TZID=America/Chicago:20221107T210000
DTEND;TZID=America/Chicago:20221107T230000
DTSTAMP:20260423T174258
CREATED:20190924T012741Z
LAST-MODIFIED:20221101T223949Z
UID:1295-1667854800-1667862000@capiparanormal.com
SUMMARY:CAPI Live
DESCRIPTION:Join us every Sunday night at 9PM Central on YouTube for CAPI Live
URL:https://capiparanormal.com/event/capi-live-2/
LOCATION:AL
ATTACH;FMTTYPE=image/jpeg:https://capiparanormal.com/wp-content/uploads/2019/09/WhatsCropDPCreator_2_7_2020_3_11_21_PM.jpeg
ORGANIZER;CN="Central Alabama Paranormal Investigations":MAILTO:bharris.capi@gmail.com
END:VEVENT
END:VCALENDAR